BEGIN:VCALENDAR
VERSION:2.0
PRODID:-//Footnight™ | Foot Parties | Foot Fetish | Foot Worship - ECPv6.15.20//NONSGML v1.0//EN
CALSCALE:GREGORIAN
METHOD:PUBLISH
X-WR-CALNAME:Footnight™ | Foot Parties | Foot Fetish | Foot Worship
X-ORIGINAL-URL:https://footnight.com
X-WR-CALDESC:Events for Footnight™ | Foot Parties | Foot Fetish | Foot Worship
REFRESH-INTERVAL;VALUE=DURATION:PT1H
X-Robots-Tag:noindex
X-PUBLISHED-TTL:PT1H
BEGIN:VTIMEZONE
TZID:America/Los_Angeles
BEGIN:DAYLIGHT
TZOFFSETFROM:-0800
TZOFFSETTO:-0700
TZNAME:PDT
DTSTART:20250309T100000
END:DAYLIGHT
BEGIN:STANDARD
TZOFFSETFROM:-0700
TZOFFSETTO:-0800
TZNAME:PST
DTSTART:20251102T090000
END:STANDARD
BEGIN:DAYLIGHT
TZOFFSETFROM:-0800
TZOFFSETTO:-0700
TZNAME:PDT
DTSTART:20260308T100000
END:DAYLIGHT
BEGIN:STANDARD
TZOFFSETFROM:-0700
TZOFFSETTO:-0800
TZNAME:PST
DTSTART:20261101T090000
END:STANDARD
BEGIN:DAYLIGHT
TZOFFSETFROM:-0800
TZOFFSETTO:-0700
TZNAME:PDT
DTSTART:20270314T100000
END:DAYLIGHT
BEGIN:STANDARD
TZOFFSETFROM:-0700
TZOFFSETTO:-0800
TZNAME:PST
DTSTART:20271107T090000
END:STANDARD
END:VTIMEZONE
BEGIN:VEVENT
DTSTART;TZID=America/Los_Angeles:20260423T190000
DTEND;TZID=America/Los_Angeles:20260423T235900
DTSTAMP:20260420T043833
CREATED:20260302T212017Z
LAST-MODIFIED:20260401T032156Z
UID:21202-1776970800-1776988740@footnight.com
SUMMARY:FootNight Orange County April 23\, 2026
DESCRIPTION:** Tickling ** Licking ** Trampling **Domination **Foot Worship\, etc\, \n\n\n\nMake Your Dreams Come True\, Two Feet At A Time.  \n\n\n\n**Discreet **INVITE ONLY  \n\n\n\n**BYOB** Sodas and Water Provided  \n\n\n\n** Snacks & Pizza provided  \n\n\n\n** Open Play Spaces.  \n\n\n\nBYOB: No alcohol will be provided or sold at the Footnight parties\, we do provide water & sodas. However\, it is BYOB\, \n\n\n\nWHAT TO WEAR: Clean\, Nice. Presentable. \n\n\n\nLADIES What to wear: Dresses\, skirts\, sexy costumes\, nice pants/tops. No G-string. If wearing a dress\, wear boy shorts under it.   Boy shorts are acceptable\, but\, let’s keep it classy!   NO POLITICAL REFERENCES on anything.  This event is about feet\, please let’s keep it that way. \n\n\n\nGents… WHAT TO WEAR:  Nice slacks\, nice shirts\, nice shoes\, nice v-neck shirts and jeans. NO POLITICAL REFERENCES on anything.  This event is about feet\, please lets keep it that way\, NO CAPS\, NO SWEAT PANTS let’s keep it classy! \n\n\n\nRefund Policy\n\n\n\nNo Refunds \n\n\n\n\n\n\n\n\nRSVP HERE\n\n\n\n\nRefund Policy… No refunds \n\n\n\nHostess: Joclyn Stone  Twitter @JoclynStone \n\n\n\n\n\n\n\nSneak Peek of the approved models…..Week of event\n\n\n\n\nReagan Size 9\n\n\n\nTylissa Size 5\n\n\n\nGemma Naya Size 6.5\n\n\n\nKourtney Chase Size 7\n\n\n\nFae Donata Size 7.5\n\n\n\nMistress Lexan Size 8.5\n\n\n\nMistress Marie Size 7.5\n\n\n\nNia Ross Size 8\n\n\n\n\n\nSummer Sunset Size 7\n\n\n\nGoddess Kat Size 6.5\n\n\n\nNova Size 8\n\n\n\nSapphire Size 6\n\n\n\nMistress LA Size 7.5\n\n\n\n\n\nEmpress Cassandra Size 7\n\n\n\nSin Twisted Size 9\n\n\n\nMiss Ivy Size 8\n\n\n\n\n\nDomina Curious Size 8\n\n\n\nFelina Rae Size 8.5\n\n\n\n\n\nCheshire Cat Size 10
URL:https://footnight.com/event/footnight-orange-county-april-23-2026/
LOCATION:AZ
CATEGORIES:Endorsed by Footnight International,Female Domination,Foot Fetish,Foot Smelling,Foot Worship,Footnight Foot Party,Meet and Greet
ATTACH;FMTTYPE=image/jpeg:https://footnight.com/wp-content/uploads/2026/03/FN-Orange-County-April-2026-FLYER.jpg
ORGANIZER;CN="Joclyn Stone":MAILTO:footnight@gmail.com
END:VEVENT
BEGIN:VEVENT
DTSTART;TZID=America/Los_Angeles:20260425T130000
DTEND;TZID=America/Los_Angeles:20260425T180000
DTSTAMP:20260420T043833
CREATED:20260401T035005Z
LAST-MODIFIED:20260413T185934Z
UID:21521-1777122000-1777140000@footnight.com
SUMMARY:Footnight Detroit April 25\, 2026
DESCRIPTION:FOOT PARTY \n\n\n\n15+ Foot Models\, some of the most gorgeous models in the Midwest.  \n\n\n\nWe have Foot Models\, women with soft soles\, suckable toes\, lickable soles trampling\, big feet\, little feet\, smelly feet\, fragrant feet\, exotic foot models\, bare feet\, sexy shoes\, tickling and much more! \n\n\n\nMAKING DREAMS COME TRUE\, TWO FEET AT A TIME! \n\n\n\nLadies Attire: Dresses\, skirts\, sexy costumes\, nice pants/tops. No G-string. If wearing a dress\, wear boy shorts under it.   Boy shorts are acceptable\, but\, let’s keep it classy!   NO POLITICAL REFERENCES on anything.  This event is about feet\, please lets keep it that way. \n\n\n\nGentlemen Attire:  Nice slacks\, nice shirts\, nice shoes\, nice v-neck shirts and jeans. NO POLITICAL REFERENCES on anything.  This event is about feet\, please lets keep it that way\, NO CAPS\, NO SWEAT PANTS let’s keep it classy! \n\n\n\n\n\nMaking Dreams Come True\, Two Feet at a Time\n\n\n\n\n\n\n\nSneak Peak of RSVP Models….Week of the Event\n\n\n\n\nAri Size 5.5\n\n\n\nMiss Kitty Blk Size 7\n\n\n\nMs Ryen Size 8.5\n\n\n\nClaudia Size 10\n\n\n\nMs Mimi Mirage Size 7\n\n\n\nCaramel Size 8\n\n\n\njade Size 7\n\n\n\nDa Brat Size 8\n\n\n\nMistress Cookie Size 8-9\n\n\n\nGoddess Luna LaRoy Size 5-6\n\n\n\nMs Kat Size 7\n\n\n\nBarbie Size 8\n\n\n\nMs Valentine Size 8.5
URL:https://footnight.com/event/footnight-detroit-april-25-2026/
LOCATION:Detroit\, 13201 Middlebelt Road\, Romulus\, MI\, 48174\, United States
CATEGORIES:Endorsed by Footnight International,Female Domination,Foot Fetish,Foot Smelling,Foot Worship,Footnight Foot Party,Meet and Greet,Mixer,Tickling,Trampling
ATTACH;FMTTYPE=image/jpeg:https://footnight.com/wp-content/uploads/2026/03/FN-Detroit-April-2026-FLYER.jpg
END:VEVENT
BEGIN:VEVENT
DTSTART;TZID=America/Los_Angeles:20260425T160000
DTEND;TZID=America/Los_Angeles:20260425T210000
DTSTAMP:20260420T043833
CREATED:20260329T165454Z
LAST-MODIFIED:20260410T170005Z
UID:21478-1777132800-1777150800@footnight.com
SUMMARY:FootNight Las Vegas April 25\, 2026
DESCRIPTION:15+ Models (New and party favorites)\,Two levels of play spaces. Out Door play spaces \n\n\n\nFree snacks and PizzaBYOB. Sodas\, Water and Mixes for a fee. \n\n\n\nTickling\, Foot Worship\, Domination\, Foot Massages\, Trampling\, Foot SmellingLarge feet\, small feet\, clean feet\, dirty feet.. Feet for every taste and fancy! \n\n\n\nLADIES What to wear: Dresses\, skirts\, sexy costumes\, nice pants/tops. No G-string. If wearing a dress\, wear boy shorts under it.   Boy shorts are acceptable\, but\, let’s keep it classy!   NO POLITICAL REFERENCES on anything.  This event is about feet\, please let’s keep it that way. \n\n\n\nGents… WHAT TO WEAR:  Nice slacks\, nice shirts\, nice shoes\, nice v-neck shirts and jeans. NO POLITICAL REFERENCES on anything.  This event is about feet\, please lets keep it that way\, NO CAPS\, NO SWEAT PANTS let’s keep it classy! \n\n\n\nAPPROVED MODEL LIST…. WILL BE UPDATED WEEK BEFORE THE EVENT….  \n\n\n\nYou will receive all of the event and location details after your registration has been completed \n\n\n\nREFUND POLICY: No Refunds \n\n\n\nApproved Models will be listed week of event \n\n\n\n\n\n\n\n\n\n\n\nNO REFUNDS \n\n\n\nFootNight Las Vegas Hostess: Joclyn Stone X @joclynstone \n\n\n\n\n\n\n\nSneak Peek of Models Attending ….Week of Event\n\n\n\n\nVenus Size 10\n\n\n\nLana Blade Size 6\n\n\n\nMochi Mona Size 5\n\n\n\nChaotic Mage Size 7\n\n\n\nTootsie Size 9\n\n\n\nLexie Fox Size 7\n\n\n\nDianna Talia Size 6\n\n\n\nWendy Raine Size 8.5\n\n\n\nMiss Size 7\n\n\n\nBri Size 7.5\n\n\n\nVenus Velvet Soles\n\n\n\nDaphnexx Size 7.5\n\n\n\nSabrina Toeses Size 7.5\n\n\n\nGoddess Mayvn Size 7.5\n\n\n\nKat Size 5\n\n\n\nWinter\n\n\n\nDominique Delirium Size 8
URL:https://footnight.com/event/footnight-las-vegas-april-25-2026/
LOCATION:AZ
CATEGORIES:Endorsed by Footnight International,Female Domination,Foot Fetish,Foot Smelling,Foot Worship,Footnight Foot Party,Meet and Greet,Mixer,Tickling,Trampling
ATTACH;FMTTYPE=image/jpeg:https://footnight.com/wp-content/uploads/2026/03/FN-Vegas-April-2026-FLYER.jpg
ORGANIZER;CN="Joclyn Stone":MAILTO:footnight@gmail.com
END:VEVENT
BEGIN:VEVENT
DTSTART;TZID=America/Los_Angeles:20260426T190000
DTEND;TZID=America/Los_Angeles:20260426T235900
DTSTAMP:20260420T043833
CREATED:20260214T204826Z
LAST-MODIFIED:20260402T020549Z
UID:21039-1777230000-1777247940@footnight.com
SUMMARY:FootNight Dallas Sunday\, April 26\, 2026
DESCRIPTION:Dallas  FOOT Fetish PARTY   Private & Discreet Entry \n\n\n\nSMELLY FOOT PARTY 4PM – 6PM   ****  REGULAR FOOT PARTY AT 7PM  (VIP’s enter at 6pm) \n\n\n\nLimited VIP and General Capacity…. GET YOUR TICKET NOW!! \n\n\n\nTickling****Trampling****Foot Massage**** \n\n\n\nMAKING DREAMS COME TRUE\, TWO FEET AT A TIME! \n\n\n\nOpen play spaces in a two level private venue\, for you and the model of your choice \n\n\n\nAPPROVED MODELS WILL BE LISTED WITH PHOTOS THE WEEK OF EVENT. \n\n\n\nWHAT TO WEAR: Clean\, Nice. Presentable. \n\n\n\nLadies Attire: Dresses\, skirts\, sexy costumes\, nice pants/tops. No G-string. If wearing a dress\, wear boy shorts under it.   Boy shorts are acceptable\, but\, let’s keep it classy!   NO POLITICAL REFERENCES on anything.  This event is about feet\, please lets keep it that way. \n\n\n\nGentlemen Attire:  Nice slacks\, nice shirts\, nice shoes\, nice v-neck shirts and jeans. NO POLITICAL REFERENCES on anything.  This event is about feet\, please lets keep it that way\, NO CAPS\, NO SWEAT PANTS let’s keep it classy! \n\n\n\nREFUND POLICY: No Refunds \n\n\n\n\n\n\n\nSneak Peek of the Approved Models….\n\n\n\nFoot Models for Smelly Foot Party \n\n\n\n\nLilly Lurid Size 11 SMELL: Vinegar\n\n\n\nPam Size: SMELL:\n\n\n\nSilk Steps Size: SMELL:\n\n\n\nVae Size 8\n\n\n\nZombie Size: SMELL: chips\n\n\n\n Mommy Mira Size: SMELL: Vinegary\n\n\n\nGoddess Mae SMELL: Mildew\n\n\n\nNugget SMELL:  Musky Cheese\n\n\n\nTatum Soles Size: SMELL: Vinegary\n\n\n\nDolliaSize  SMELL: Musky\n\n\n\n\nFoot Models for Regular Foot Party \n\n\n\n\nDollia \n\n\n\nMommy Mira\n\n\n\nTatum Soles\n\n\n\nKourtney Dripz Size 11\n\n\n\nSilk Steps \n\n\n\nMazin\n\n\n\nZombie\n\n\n\nGoddess Mae\n\n\n\nNatasha Size 7\n\n\n\nNugget\n\n\n\nPam\n\n\n\nPam Size 5\n\n\n\nGoddess Violet Ray Size 5.5\n\n\n\nLily Lurid Size 11\n\n\n\nBerry Kitty Size 8.5\n\n\n\nCrushara
URL:https://footnight.com/event/footnight-dallas-sunday-april-26-2026/
LOCATION:Dallas\, TX\, 10821 Composite Drive\, Dallas\, TX\, 75220\, United States
CATEGORIES:Endorsed by Footnight International,Female Domination,Foot Fetish,Foot Smelling,Foot Worship,Footnight Foot Party,Meet and Greet,Mixer,Tickling,Trampling
ATTACH;FMTTYPE=image/jpeg:https://footnight.com/wp-content/uploads/2026/02/FN-Dallas-April-2026-FLYER.jpg
END:VEVENT
BEGIN:VEVENT
DTSTART;TZID=America/Los_Angeles:20260427T190000
DTEND;TZID=America/Los_Angeles:20260427T235900
DTSTAMP:20260420T043833
CREATED:20260302T205550Z
LAST-MODIFIED:20260415T205450Z
UID:21198-1777316400-1777334340@footnight.com
SUMMARY:Footnight Baltimore MD April 27\, 2026
DESCRIPTION:15+ Foot Models\, some of the most gorgeous models on the East Coast. \n\n\n\nWe have hand picked Foot Models\, women with soft soles\, suckable toes\, lickable soles trampling\, big feet\, little feet\, smelly feet\, fragrant feet\, exotic foot models\, bare feet\, sexy shoes\, tickling and much more! \n\n\n\nDon’t miss out on the Raffle\,  to be e a “Smelly Foot Judge” and crown the Best Aroma of the night.  \n\n\n\nMAKING DREAMS COME TRUE\, TWO FEET AT A TIME! \n\n\n\nOpen play areas.  Raffle tickets given upon arrival\,  See  what you could win! \n\n\n\nLadies Attire: Dresses\, skirts\, sexy costumes\, nice pants/tops. No G-string. If wearing a dress\, wear boy shorts under it.   Boy shorts are acceptable\, but\, let’s keep it classy!   NO POLITICAL REFERENCES on anything.  This event is about feet\, please lets keep it that way. \n\n\n\nGentlemen Attire:  Nice slacks\, nice shirts\, nice shoes\, nice v-neck shirts and jeans. NO POLITICAL REFERENCES on anything.  This event is about feet\, please lets keep it that way\, NO CAPS\, NO SWEAT PANTS let’s keep it classy! \n\n\n\nNO REFUNDS!  \n\n\n\nMaking Dreams Come True\, Two Feet at a Time\n\n\n\n\n\n\n\nSneak Peak of RSVP Models….\n\n\n\n\nTemptress Mango Size 7.5\n\n\n\nAlexis\n\n\n\nDahlia\n\n\n\nJewel Size 8.5\n\n\n\nMistress Quill Size 8.5\n\n\n\nJSPhotography\n\n\n\nNatasha\n\n\n\nBeth\n\n\n\nIvy\n\n\n\nInara Starr\n\n\n\nAmy Adams\n\n\n\nMistress Bad Bitch Size 8
URL:https://footnight.com/event/footnight-baltimore-md-april-27-2026/
LOCATION:Baltimore Maryland\, 4508 N. Point Blvd\, Baltimore\, MD\, 21219\, United States
CATEGORIES:Endorsed by Footnight International,Female Domination,Foot Fetish,Foot Smelling,Foot Worship,Footnight Foot Party,Meet and Greet,Mixer,Tickling,Trampling
ATTACH;FMTTYPE=image/jpeg:https://footnight.com/wp-content/uploads/2026/03/take_out_the_smelly_foot_part_Nano_Banana_Pro_05002.jpg
ORGANIZER;CN="K.D.":MAILTO:dynamitefootnight@gmail.com
END:VEVENT
END:VCALENDAR